BEGIN:VCALENDAR
VERSION:2.0
PRODID:-//Central Coast Country Dance Society - ECPv6.15.20//NONSGML v1.0//EN
CALSCALE:GREGORIAN
METHOD:PUBLISH
X-WR-CALNAME:Central Coast Country Dance Society
X-ORIGINAL-URL:https://cccds.org
X-WR-CALDESC:Events for Central Coast Country Dance Society
REFRESH-INTERVAL;VALUE=DURATION:PT1H
X-Robots-Tag:noindex
X-PUBLISHED-TTL:PT1H
BEGIN:VTIMEZONE
TZID:America/Los_Angeles
BEGIN:DAYLIGHT
TZOFFSETFROM:-0800
TZOFFSETTO:-0700
TZNAME:PDT
DTSTART:20230312T100000
END:DAYLIGHT
BEGIN:STANDARD
TZOFFSETFROM:-0700
TZOFFSETTO:-0800
TZNAME:PST
DTSTART:20231105T090000
END:STANDARD
BEGIN:DAYLIGHT
TZOFFSETFROM:-0800
TZOFFSETTO:-0700
TZNAME:PDT
DTSTART:20240310T100000
END:DAYLIGHT
BEGIN:STANDARD
TZOFFSETFROM:-0700
TZOFFSETTO:-0800
TZNAME:PST
DTSTART:20241103T090000
END:STANDARD
BEGIN:DAYLIGHT
TZOFFSETFROM:-0800
TZOFFSETTO:-0700
TZNAME:PDT
DTSTART:20250309T100000
END:DAYLIGHT
BEGIN:STANDARD
TZOFFSETFROM:-0700
TZOFFSETTO:-0800
TZNAME:PST
DTSTART:20251102T090000
END:STANDARD
BEGIN:DAYLIGHT
TZOFFSETFROM:-0800
TZOFFSETTO:-0700
TZNAME:PDT
DTSTART:20260308T100000
END:DAYLIGHT
BEGIN:STANDARD
TZOFFSETFROM:-0700
TZOFFSETTO:-0800
TZNAME:PST
DTSTART:20261101T090000
END:STANDARD
END:VTIMEZONE
BEGIN:VTIMEZONE
TZID:UTC
BEGIN:STANDARD
TZOFFSETFROM:+0000
TZOFFSETTO:+0000
TZNAME:UTC
DTSTART:20240101T000000
END:STANDARD
END:VTIMEZONE
BEGIN:VEVENT
DTSTART;TZID=America/Los_Angeles:20250208T130000
DTEND;TZID=America/Los_Angeles:20250208T150000
DTSTAMP:20260419T142400
CREATED:20250124T065835Z
LAST-MODIFIED:20250209T063334Z
UID:251-1739019600-1739026800@cccds.org
SUMMARY:Caller Workshop Series #1 Jean Gibson-Gorrindo
DESCRIPTION:Sign up now for our six part caller’s training workshop and learn how to call Contra dances.  Sign up for the location in San Luis Obispo.  Introduction to calling.
URL:https://cccds.org/event/caller-workshop-series-1-jean-gibson-gorrindo/
LOCATION:California
END:VEVENT
BEGIN:VEVENT
DTSTART;TZID=UTC:20250117T000000
DTEND;TZID=UTC:20250119T235959
DTSTAMP:20260419T142400
CREATED:20250102T021824Z
LAST-MODIFIED:20250102T021824Z
UID:156-1737072000-1737331199@cccds.org
SUMMARY:Contra Carnivale!
DESCRIPTION:Callers: Lisa Greenleaf\, Frannie Marr\, Jeremy Korr \nBand: Stringrays\, Gaslight Tinkers\, Nova \nFriday through Sunday at SLO Vets Hall. See the Contra Carnivale site for more information.
URL:https://cccds.org/event/contra-carnivale/
LOCATION:SLO Vets Hall\, 801 Grand Avenue\, San Luis Obispo\, CA\, 93401\, United States
CATEGORIES:Dances
ATTACH;FMTTYPE=image/jpeg:https://cccds.org/wp-content/uploads/2025/01/Screenshot-2025-01-01-at-10.17.54 AM.jpg
END:VEVENT
BEGIN:VEVENT
DTSTART;TZID=America/Los_Angeles:20250116T183000
DTEND;TZID=America/Los_Angeles:20250116T220000
DTSTAMP:20260419T142400
CREATED:20250102T021127Z
LAST-MODIFIED:20250102T021127Z
UID:154-1737052200-1737064800@cccds.org
SUMMARY:Carnivale Appetizer Contra Dance
DESCRIPTION:Caller: William Watson (Portland\, OR) \nBand: Stringrays \nCome at 6:30 for a quick lesson! \nCarnivale Appetizer – Dance 6:30 to 10:00. $25 (sliding scale).
URL:https://cccds.org/event/carnivale-appetizer-contra-dance/
LOCATION:Odd Fellows Hall\, 520 Dana Street\, San Luis Obispo\, California
CATEGORIES:Dances
ATTACH;FMTTYPE=image/jpeg:https://cccds.org/wp-content/uploads/2024/11/dawndancers_cropped.jpg
END:VEVENT
BEGIN:VEVENT
DTSTART;TZID=America/Los_Angeles:20241214T183000
DTEND;TZID=America/Los_Angeles:20241214T213000
DTSTAMP:20260419T142400
CREATED:20241106T040955Z
LAST-MODIFIED:20241106T054837Z
UID:101-1734201000-1734211800@cccds.org
SUMMARY:Contra Dance
DESCRIPTION:Caller: TBD \nBand: Foggy Bay String Band \nCome at 6:30 for a quick lesson!
URL:https://cccds.org/event/contra-dance-2/
LOCATION:Odd Fellows Hall\, 520 Dana Street\, San Luis Obispo\, California
CATEGORIES:Dances
ATTACH;FMTTYPE=image/jpeg:https://cccds.org/wp-content/uploads/2024/11/dawndancers_cropped.jpg
END:VEVENT
BEGIN:VEVENT
DTSTART;TZID=America/Los_Angeles:20241109T063000
DTEND;TZID=America/Los_Angeles:20241109T213000
DTSTAMP:20260419T142400
CREATED:20241106T040658Z
LAST-MODIFIED:20241106T051317Z
UID:98-1731133800-1731187800@cccds.org
SUMMARY:Contra Dance
DESCRIPTION:Caller: Jean Gorrindo\nBand: Fiddle Tunas\n\nCome at 6:30 for a quick lesson!
URL:https://cccds.org/event/contra-dance/
LOCATION:Odd Fellows Hall\, 520 Dana Street\, San Luis Obispo\, California
CATEGORIES:Dances
ATTACH;FMTTYPE=image/jpeg:https://cccds.org/wp-content/uploads/2024/11/dawndancers_cropped.jpg
END:VEVENT
END:VCALENDAR